BEGIN:VCALENDAR
VERSION:2.0
PRODID:-//BowYeeTong - ECPv6.15.20//NONSGML v1.0//EN
CALSCALE:GREGORIAN
METHOD:PUBLISH
X-WR-CALNAME:BowYeeTong
X-ORIGINAL-URL:https://bowyeetong.com
X-WR-CALDESC:Events for BowYeeTong
REFRESH-INTERVAL;VALUE=DURATION:PT1H
X-Robots-Tag:noindex
X-PUBLISHED-TTL:PT1H
BEGIN:VTIMEZONE
TZID:Pacific/Honolulu
BEGIN:STANDARD
TZOFFSETFROM:-1000
TZOFFSETTO:-1000
TZNAME:HST
DTSTART:20230101T000000
END:STANDARD
END:VTIMEZONE
BEGIN:VEVENT
DTSTART;TZID=Pacific/Honolulu:20260412T110000
DTEND;TZID=Pacific/Honolulu:20260412T150000
DTSTAMP:20260423T060124
CREATED:20260315T201343Z
LAST-MODIFIED:20260315T201708Z
UID:709-1775991600-1776006000@bowyeetong.com
SUMMARY:Ching Ming Festival
DESCRIPTION:Ching Ming is often referred to as Tomb Sweeping Day or Pure Brightness because of the holiday’s events. The primary role of the Ching Ming Festival is to pay respect and honor our Ancestors. It’s one of the most important traditional festivals in China. The purpose of this activity is to clean and beautify the graves or urns of our ancestors. We offer our ancestors their favorite food and wine. Burn paper money and clothes as a tribute. \n  \nDay/Date:  Sunday\, April 12\, 2026 \nTime:         11:00 am \nLocation:   Hawaiian Memorial Park\, 45-425 Kamehameha Hwy\, Kaneohe \nTurn left before the Cemetery Hours sign. Go down that road\, follow the road to the turnabout\, here you will see the Chinese shrine (see pictures below). \nCost:      Free\, bring your family to experience this Chinese tradition. (Email only\, limited mailing of invitations) \nLunch to follow. Head count needed. Limited space at restaurant. Everyone is welcome to experience the ceremony. \n  \nSubmit RSVP to Cynthia Low\, head count needed for lunch only to follow no later than March 31\, 2025. Please make sure you get confirmation that your email or text was received. \n  \nWe hope to see you at Ching Ming\, \nCynthia Low and her committee Leanne\, Judy\, Renee\, and Joyce.
URL:https://bowyeetong.com/event/ching-ming-festival/
LOCATION:Hawaiian Memorial Cemetery\, Kaneohe\, Hawaii\, 96744
END:VEVENT
BEGIN:VEVENT
DTSTART;TZID=Pacific/Honolulu:20260215T173000
DTEND;TZID=Pacific/Honolulu:20260215T200000
DTSTAMP:20260423T060124
CREATED:20260214T093243Z
LAST-MODIFIED:20260214T093426Z
UID:699-1771176600-1771185600@bowyeetong.com
SUMMARY:Chinese New Year
DESCRIPTION:
URL:https://bowyeetong.com/event/chinese-new-year-3/
LOCATION:Kin Wah Chop Suey\, 45-588 Kamehameha Hwy\, Kaneohe\, 96744\, United States
END:VEVENT
BEGIN:VEVENT
DTSTART;TZID=Pacific/Honolulu:20260215T160000
DTEND;TZID=Pacific/Honolulu:20260215T180000
DTSTAMP:20260423T060124
CREATED:20260214T092952Z
LAST-MODIFIED:20260214T092952Z
UID:697-1771171200-1771178400@bowyeetong.com
SUMMARY:General Meeting
DESCRIPTION:
URL:https://bowyeetong.com/event/general-meeting-8/
LOCATION:St. Ann’s\, Kaneohe\, 96744\, United States
END:VEVENT
BEGIN:VEVENT
DTSTART;TZID=Pacific/Honolulu:20251214T170000
DTEND;TZID=Pacific/Honolulu:20251214T200000
DTSTAMP:20260423T060124
CREATED:20250217T203311Z
LAST-MODIFIED:20250217T203323Z
UID:637-1765731600-1765742400@bowyeetong.com
SUMMARY:Christmas Party (TBD)
DESCRIPTION:
URL:https://bowyeetong.com/event/christmas-party/
LOCATION:Hawaii
END:VEVENT
BEGIN:VEVENT
DTSTART;TZID=Pacific/Honolulu:20251123T160000
DTEND;TZID=Pacific/Honolulu:20251123T170000
DTSTAMP:20260423T060124
CREATED:20250217T203027Z
LAST-MODIFIED:20250217T203027Z
UID:633-1763913600-1763917200@bowyeetong.com
SUMMARY:General Meeting
DESCRIPTION:
URL:https://bowyeetong.com/event/general-meeting-7/
LOCATION:St. Ann’s\, Kaneohe\, 96744\, United States
END:VEVENT
BEGIN:VEVENT
DTSTART;TZID=Pacific/Honolulu:20250928T170000
DTEND;TZID=Pacific/Honolulu:20250928T200000
DTSTAMP:20260423T060124
CREATED:20250217T203227Z
LAST-MODIFIED:20250217T203227Z
UID:635-1759078800-1759089600@bowyeetong.com
SUMMARY:Full Moon Dinner (TBD)
DESCRIPTION:
URL:https://bowyeetong.com/event/full-moon-dinner-tbd/
LOCATION:Hawaii
END:VEVENT
BEGIN:VEVENT
DTSTART;TZID=Pacific/Honolulu:20250810T160000
DTEND;TZID=Pacific/Honolulu:20250810T170000
DTSTAMP:20260423T060124
CREATED:20250217T202827Z
LAST-MODIFIED:20250217T202827Z
UID:629-1754841600-1754845200@bowyeetong.com
SUMMARY:General Meeting
DESCRIPTION:
URL:https://bowyeetong.com/event/general-meeting-6/
LOCATION:St. Ann’s\, Kaneohe\, 96744\, United States
END:VEVENT
BEGIN:VEVENT
DTSTART;TZID=Pacific/Honolulu:20250622T130000
DTEND;TZID=Pacific/Honolulu:20250622T160000
DTSTAMP:20260423T060124
CREATED:20250217T202735Z
LAST-MODIFIED:20250613T051856Z
UID:627-1750597200-1750608000@bowyeetong.com
SUMMARY:Family Cultural Activity
DESCRIPTION:Purpose: \n\nLearn how to play Mah Jong & other Chinese Games.\nPass on a Chinese Cultural activity to the next generation.\nSocialize and get to know other BYT members.\nFood and drinks will be provided.\n\n  \nPlease RSVP to Craig Nakahara via email or call/text message. \nRSVP by Monday\, June 16th 2025\, so food can be ordered. \nNumber of people attending _____ \nI have a Mah Jong set and can bring it _____ Name: ______________ Ph.________________
URL:https://bowyeetong.com/event/family-cultural-activity-tba/
LOCATION:St. Ann’s\, Kaneohe\, 96744\, United States
END:VEVENT
BEGIN:VEVENT
DTSTART;TZID=Pacific/Honolulu:20250518T160000
DTEND;TZID=Pacific/Honolulu:20250518T170000
DTSTAMP:20260423T060124
CREATED:20250217T202532Z
LAST-MODIFIED:20250217T202532Z
UID:625-1747584000-1747587600@bowyeetong.com
SUMMARY:General Meeting
DESCRIPTION:
URL:https://bowyeetong.com/event/general-meeting-5/
LOCATION:St. Ann’s\, Kaneohe\, 96744\, United States
END:VEVENT
BEGIN:VEVENT
DTSTART;TZID=Pacific/Honolulu:20250406T150000
DTEND;TZID=Pacific/Honolulu:20250406T170000
DTSTAMP:20260423T060124
CREATED:20250217T202430Z
LAST-MODIFIED:20250404T063910Z
UID:623-1743951600-1743958800@bowyeetong.com
SUMMARY:Ching Ming
DESCRIPTION:
URL:https://bowyeetong.com/event/ching-ming-tba/
LOCATION:Hawaiian Memorial Cemetery\, Kaneohe\, Hawaii\, 96744
END:VEVENT
BEGIN:VEVENT
DTSTART;TZID=Pacific/Honolulu:20250216T040000
DTEND;TZID=Pacific/Honolulu:20250216T170000
DTSTAMP:20260423T060124
CREATED:20250217T202215Z
LAST-MODIFIED:20250217T202215Z
UID:618-1739678400-1739725200@bowyeetong.com
SUMMARY:General Meeting
DESCRIPTION:
URL:https://bowyeetong.com/event/general-meeting-4/
LOCATION:St. Ann’s\, Kaneohe\, 96744\, United States
END:VEVENT
BEGIN:VEVENT
DTSTART;TZID=Pacific/Honolulu:20250202T170000
DTEND;TZID=Pacific/Honolulu:20250202T200000
DTSTAMP:20260423T060124
CREATED:20250217T202203Z
LAST-MODIFIED:20250217T205224Z
UID:620-1738515600-1738526400@bowyeetong.com
SUMMARY:Chinese New Year
DESCRIPTION:
URL:https://bowyeetong.com/event/chinese-new-year-2/
LOCATION:Kin Wah Chop Suey\, 45-588 Kamehameha Hwy\, Kaneohe\, 96744\, United States
END:VEVENT
BEGIN:VEVENT
DTSTART;TZID=Pacific/Honolulu:20241207T170000
DTEND;TZID=Pacific/Honolulu:20241207T200000
DTSTAMP:20260423T060124
CREATED:20241129T195520Z
LAST-MODIFIED:20241129T195520Z
UID:596-1733590800-1733601600@bowyeetong.com
SUMMARY:Christmas Celebration
DESCRIPTION:Aloha\, \nThis year our Christmas celebration is at Nice Day which is a Chinese seafood restaurant.  We will have a fun filled 8-course dinner to celebrate the Holiday Season.  To attend you need to RSVP on Monday Nov. 25\, 2024.  We hope you see you guys there and have a happy holiday. \n \n  \nCost: \nActive & Excused Inactive Members: $24.00 \nNew\, Inactive Members & Guests: $48.00 \nSenior members over 70 years old & Board of Directors: $24.00
URL:https://bowyeetong.com/event/christmas-celebration/
LOCATION:nice day\, 1425 Liliha St.\, Honolulu\, HI\, 96817
END:VEVENT
BEGIN:VEVENT
DTSTART;TZID=Pacific/Honolulu:20241117T160000
DTEND;TZID=Pacific/Honolulu:20241117T173000
DTSTAMP:20260423T060124
CREATED:20240511T210129Z
LAST-MODIFIED:20240518T225047Z
UID:263-1731859200-1731864600@bowyeetong.com
SUMMARY:General Meeting
DESCRIPTION:
URL:https://bowyeetong.com/event/general-meeting-3/
LOCATION:St. Ann’s\, Kaneohe\, 96744\, United States
END:VEVENT
BEGIN:VEVENT
DTSTART;TZID=Pacific/Honolulu:20240811T160000
DTEND;TZID=Pacific/Honolulu:20240811T173000
DTSTAMP:20260423T060124
CREATED:20240511T205946Z
LAST-MODIFIED:20240518T225137Z
UID:259-1723392000-1723397400@bowyeetong.com
SUMMARY:General Meeting
DESCRIPTION:
URL:https://bowyeetong.com/event/general-meeting-2/
LOCATION:St. Ann’s\, Kaneohe\, 96744\, United States
END:VEVENT
BEGIN:VEVENT
DTSTART;TZID=Pacific/Honolulu:20240519T040000
DTEND;TZID=Pacific/Honolulu:20240519T173000
DTSTAMP:20260423T060124
CREATED:20240511T070145Z
LAST-MODIFIED:20240518T225153Z
UID:147-1716091200-1716139800@bowyeetong.com
SUMMARY:General Meeting
DESCRIPTION:2nd Meeting for BowYeeTong for 2024
URL:https://bowyeetong.com/event/general-club-meeting/
LOCATION:Hawaii
END:VEVENT
BEGIN:VEVENT
DTSTART;TZID=Pacific/Honolulu:20240420T150000
DTEND;TZID=Pacific/Honolulu:20240420T170000
DTSTAMP:20260423T060124
CREATED:20240511T205848Z
LAST-MODIFIED:20240511T205848Z
UID:256-1713625200-1713632400@bowyeetong.com
SUMMARY:Ching Ming
DESCRIPTION:
URL:https://bowyeetong.com/event/ching-ming/
LOCATION:Hawaiian Memorial Cemetery\, Kaneohe\, Hawaii\, 96744
END:VEVENT
BEGIN:VEVENT
DTSTART;TZID=Pacific/Honolulu:20240218T160000
DTEND;TZID=Pacific/Honolulu:20240218T173000
DTSTAMP:20260423T060124
CREATED:20240511T205422Z
LAST-MODIFIED:20240518T225206Z
UID:249-1708272000-1708277400@bowyeetong.com
SUMMARY:General Meeting
DESCRIPTION:
URL:https://bowyeetong.com/event/general-meeting/
LOCATION:St. Ann’s\, Kaneohe\, 96744\, United States
END:VEVENT
BEGIN:VEVENT
DTSTART;TZID=Pacific/Honolulu:20240202T173000
DTEND;TZID=Pacific/Honolulu:20240202T183000
DTSTAMP:20260423T060124
CREATED:20240511T205703Z
LAST-MODIFIED:20250217T203642Z
UID:253-1706895000-1706898600@bowyeetong.com
SUMMARY:Chinese New Year
DESCRIPTION:
URL:https://bowyeetong.com/event/chinese-new-year/
LOCATION:Hawaii
END:VEVENT
END:VCALENDAR